BEGIN:VCALENDAR
VERSION:2.0
PRODID:-//UKNanny - ECPv6.15.18//NONSGML v1.0//EN
CALSCALE:GREGORIAN
METHOD:PUBLISH
X-ORIGINAL-URL:https://uknanny.org
X-WR-CALDESC:Events for UKNanny
REFRESH-INTERVAL;VALUE=DURATION:PT1H
X-Robots-Tag:noindex
X-PUBLISHED-TTL:PT1H
BEGIN:VTIMEZONE
TZID:Europe/London
BEGIN:DAYLIGHT
TZOFFSETFROM:+0000
TZOFFSETTO:+0100
TZNAME:BST
DTSTART:20250330T010000
END:DAYLIGHT
BEGIN:STANDARD
TZOFFSETFROM:+0100
TZOFFSETTO:+0000
TZNAME:GMT
DTSTART:20251026T010000
END:STANDARD
BEGIN:DAYLIGHT
TZOFFSETFROM:+0000
TZOFFSETTO:+0100
TZNAME:BST
DTSTART:20260329T010000
END:DAYLIGHT
BEGIN:STANDARD
TZOFFSETFROM:+0100
TZOFFSETTO:+0000
TZNAME:GMT
DTSTART:20261025T010000
END:STANDARD
BEGIN:DAYLIGHT
TZOFFSETFROM:+0000
TZOFFSETTO:+0100
TZNAME:BST
DTSTART:20270328T010000
END:DAYLIGHT
BEGIN:STANDARD
TZOFFSETFROM:+0100
TZOFFSETTO:+0000
TZNAME:GMT
DTSTART:20271031T010000
END:STANDARD
END:VTIMEZONE
BEGIN:VEVENT
DTSTART;TZID=Europe/London:20260117T130000
DTEND;TZID=Europe/London:20260117T170000
DTSTAMP:20260423T123224
CREATED:20251115T192305Z
LAST-MODIFIED:20260114T112521Z
UID:2908-1768654800-1768669200@uknanny.org
SUMMARY:Christmas in January
DESCRIPTION:Our annual get together will be held on Saturday 17th January 2026 at the lovely pub Allsop Arms Marylebone NW1. \nWe have booked a table and there will be festive treats. \nWear a Christmas Jumper if you dare.
URL:https://uknanny.org/event/christmas-in-january/
LOCATION:Allsop Arms\, 137-143 Gloucester Place\, London\, NW1 5AL
ATTACH;FMTTYPE=image/png:https://uknanny.org/wp-content/uploads/2025/11/Christmas-in-january-e1763234518213.png
END:VEVENT
END:VCALENDAR