BEGIN:VCALENDAR
VERSION:2.0
PRODID:-//UKNanny - ECPv6.15.18//NONSGML v1.0//EN
CALSCALE:GREGORIAN
METHOD:PUBLISH
X-WR-CALNAME:UKNanny
X-ORIGINAL-URL:https://uknanny.org
X-WR-CALDESC:Events for UKNanny
REFRESH-INTERVAL;VALUE=DURATION:PT1H
X-Robots-Tag:noindex
X-PUBLISHED-TTL:PT1H
BEGIN:VTIMEZONE
TZID:Europe/London
BEGIN:DAYLIGHT
TZOFFSETFROM:+0000
TZOFFSETTO:+0100
TZNAME:BST
DTSTART:20240331T010000
END:DAYLIGHT
BEGIN:STANDARD
TZOFFSETFROM:+0100
TZOFFSETTO:+0000
TZNAME:GMT
DTSTART:20241027T010000
END:STANDARD
BEGIN:DAYLIGHT
TZOFFSETFROM:+0000
TZOFFSETTO:+0100
TZNAME:BST
DTSTART:20250330T010000
END:DAYLIGHT
BEGIN:STANDARD
TZOFFSETFROM:+0100
TZOFFSETTO:+0000
TZNAME:GMT
DTSTART:20251026T010000
END:STANDARD
BEGIN:DAYLIGHT
TZOFFSETFROM:+0000
TZOFFSETTO:+0100
TZNAME:BST
DTSTART:20260329T010000
END:DAYLIGHT
BEGIN:STANDARD
TZOFFSETFROM:+0100
TZOFFSETTO:+0000
TZNAME:GMT
DTSTART:20261025T010000
END:STANDARD
END:VTIMEZONE
BEGIN:VEVENT
DTSTART;TZID=Europe/London:20251213T100000
DTEND;TZID=Europe/London:20251213T113000
DTSTAMP:20260423T140025
CREATED:20251107T133520Z
LAST-MODIFIED:20251107T203742Z
UID:2527-1765620000-1765625400@uknanny.org
SUMMARY:Christmas Meet Up.
DESCRIPTION:With Christmas not far away we thought it would be nice to catch up over a mince pie or two. \nJoin us at The Chelsea Gardener Cafe 10am Saturday 13th December \nLimited spaces so make sure to book your spot. \n£5 deposit which we will refund on arrival. \nLets hope Father Christmas brings a special gifts. \n  \n 
URL:https://uknanny.org/event/christmas/
LOCATION:The Chelsea Gardener Café\, 125-127 Sydney Street\, Chelsea\, SW3 6NR\, United Kingdom
ATTACH;FMTTYPE=image/jpeg:https://uknanny.org/wp-content/uploads/2024/11/Mini-Star-Topped-Mince-Pies-New.jpg
ORGANIZER;CN="UK Nanny Ltd":MAILTO:info@uknanny.org
END:VEVENT
END:VCALENDAR