BEGIN:VCALENDAR
VERSION:2.0
PRODID:-//UKNanny - ECPv6.15.18//NONSGML v1.0//EN
CALSCALE:GREGORIAN
METHOD:PUBLISH
X-WR-CALNAME:UKNanny
X-ORIGINAL-URL:https://uknanny.org
X-WR-CALDESC:Events for UKNanny
REFRESH-INTERVAL;VALUE=DURATION:PT1H
X-Robots-Tag:noindex
X-PUBLISHED-TTL:PT1H
BEGIN:VTIMEZONE
TZID:Europe/London
BEGIN:DAYLIGHT
TZOFFSETFROM:+0000
TZOFFSETTO:+0100
TZNAME:BST
DTSTART:20240331T010000
END:DAYLIGHT
BEGIN:STANDARD
TZOFFSETFROM:+0100
TZOFFSETTO:+0000
TZNAME:GMT
DTSTART:20241027T010000
END:STANDARD
BEGIN:DAYLIGHT
TZOFFSETFROM:+0000
TZOFFSETTO:+0100
TZNAME:BST
DTSTART:20250330T010000
END:DAYLIGHT
BEGIN:STANDARD
TZOFFSETFROM:+0100
TZOFFSETTO:+0000
TZNAME:GMT
DTSTART:20251026T010000
END:STANDARD
BEGIN:DAYLIGHT
TZOFFSETFROM:+0000
TZOFFSETTO:+0100
TZNAME:BST
DTSTART:20260329T010000
END:DAYLIGHT
BEGIN:STANDARD
TZOFFSETFROM:+0100
TZOFFSETTO:+0000
TZNAME:GMT
DTSTART:20261025T010000
END:STANDARD
END:VTIMEZONE
BEGIN:VEVENT
DTSTART;TZID=Europe/London:20250913T140000
DTEND;TZID=Europe/London:20250913T163000
DTSTAMP:20260423T182613
CREATED:20250509T065649Z
LAST-MODIFIED:20250806T142217Z
UID:2660-1757772000-1757781000@uknanny.org
SUMMARY:UK Nanny Awards 2025
DESCRIPTION:It’s that time of year again! \nWipe off the snot and sick marks and pop your glad rags on. \nThe Annual UK Nanny Awards ceremony will be held on Saturday 13th September 2025\, from 2pm to 5pm at Soho House White City. \nThis is the premier event celebrating excellence in the Nanny profession. \nOnce again we will be offering tables of 8 to purchase. \nA huge Thank you to our sponsors Enginehire\, Superstar Nannies and Mark Bates Limited. \nBe sure to purchase your ticket to this annual event as they are selling fast. \nWe cannot wait to celebrate with you all. \n  \n 
URL:https://uknanny.org/event/uk-nanny-awards-2025/
LOCATION:Soho House White City\, 2 Television Centre 101 Wood Lane\, London\, London\, W12 7FR\, United Kingdom
ATTACH;FMTTYPE=image/jpeg:https://uknanny.org/wp-content/uploads/2023/06/UKNanny2023Preview-6-scaled.jpg
ORGANIZER;CN="UK Nanny Ltd":MAILTO:info@uknanny.org
END:VEVENT
END:VCALENDAR