BEGIN:VCALENDAR
VERSION:2.0
PRODID:-//UKNanny - ECPv6.15.18//NONSGML v1.0//EN
CALSCALE:GREGORIAN
METHOD:PUBLISH
X-ORIGINAL-URL:https://uknanny.org
X-WR-CALDESC:Events for UKNanny
REFRESH-INTERVAL;VALUE=DURATION:PT1H
X-Robots-Tag:noindex
X-PUBLISHED-TTL:PT1H
BEGIN:VTIMEZONE
TZID:Europe/London
BEGIN:DAYLIGHT
TZOFFSETFROM:+0000
TZOFFSETTO:+0100
TZNAME:BST
DTSTART:20230326T010000
END:DAYLIGHT
BEGIN:STANDARD
TZOFFSETFROM:+0100
TZOFFSETTO:+0000
TZNAME:GMT
DTSTART:20231029T010000
END:STANDARD
BEGIN:DAYLIGHT
TZOFFSETFROM:+0000
TZOFFSETTO:+0100
TZNAME:BST
DTSTART:20240331T010000
END:DAYLIGHT
BEGIN:STANDARD
TZOFFSETFROM:+0100
TZOFFSETTO:+0000
TZNAME:GMT
DTSTART:20241027T010000
END:STANDARD
BEGIN:DAYLIGHT
TZOFFSETFROM:+0000
TZOFFSETTO:+0100
TZNAME:BST
DTSTART:20250330T010000
END:DAYLIGHT
BEGIN:STANDARD
TZOFFSETFROM:+0100
TZOFFSETTO:+0000
TZNAME:GMT
DTSTART:20251026T010000
END:STANDARD
END:VTIMEZONE
BEGIN:VEVENT
DTSTART;TZID=Europe/London:20241005T090000
DTEND;TZID=Europe/London:20241005T170000
DTSTAMP:20260424T094838
CREATED:20231027T204451Z
LAST-MODIFIED:20240930T112216Z
UID:1886-1728118800-1728147600@uknanny.org
SUMMARY:The Great British Nanny Conference 2024
DESCRIPTION:The original CPD UK Nanny Conference. Whether you are just starting out or a long term Nanny we can all learn something new.. \nThe Great British Nanny Conference provides high-quality training\, support in addition to giving you the opportunity to network with our Sponsors\, vendors and like-minded Nannies. We are the original CPD accredited Professional Nanny conference in the world!. You will have a minimum of 4 workshops to attend. \nFor the 3rd year running we have decided to give back to our community by using a local Nursery and Primary school based in Fulham.\nYou will find nearby hotels and easy access to public transport\nTicket includes\, CPD Certificate\, refreshments\, lunch and a Swag bag. \nTake a look at our speakers\, Goldie Putrym and Gill Tree\nIf you are a speaker and would like to submit a proposal please email helen@uknanny.org\nWe have sponsorship opportunities and vendor tables too. \nWorking as a community we grow stronger together every day. \nHere are a few examples of what our attendees have said: \nA great\, well-organised event packed with engaging subjects and charismatic speakers. An extraordinary opportunity to network and raise our concerns as Nannies.  Nanny M Teresa Goicoechea. UK \nI’m a career Nanny with decades of experience and I learned new things. Nanny Margo. USA \nThe Great British Nanny Conference is a great day well spent. Meet up with many other Nannies and benefit from constructive talks. You come out of it stronger. It’s great!!!!  Nanny D. UK \nThis conference is perfect for Nannies. You get to meet other great Nannies from all over London and you can share your experiences in confidence with the group. The speakers also really engage you in their subject and get you involved\, make you rethink what you thought you knew. Nanny Tracy. UK \n\n		\n		\n			\n				\n			\n			\n				\n			\n			\n				\n			\n			\n				\n			\n			\n				\n			\n			\n		\n\n  \n  \n 
URL:https://uknanny.org/event/cpd-nanny-conference/
LOCATION:Normand Croft Community School\, Bramber Rd\, London\, W14 9PA\, United Kingdom
ATTACH;FMTTYPE=image/jpeg:https://uknanny.org/wp-content/uploads/2023/10/IMG_20230930_223550_228.jpg
ORGANIZER;CN="UK Nanny Ltd":MAILTO:info@uknanny.org
END:VEVENT
BEGIN:VEVENT
DTSTART;TZID=Europe/London:20241018T193000
DTEND;TZID=Europe/London:20241018T203000
DTSTAMP:20260424T094838
CREATED:20241011T111941Z
LAST-MODIFIED:20241011T111941Z
UID:2471-1729279800-1729283400@uknanny.org
SUMMARY:Webinar
DESCRIPTION:Working with Families and Children with ASD/ADHD\nWe will be talking with the wonderful Mel Hieatt aka Camulodunum Nanny. \nA little bit about Mel:\nI first became a Nanny at 18 when I went to work in a Live-in position\, for 4 children under 5\, for family friends in Gloucestershire. This determined my love for Under 5’s and after having my own Children I decided to train as an Early Years teacher and Early Language Lead. After 16 years in the PVI Early Years sector\, I took a sabbatical and returned to Nannying once more in 2019 and fell in love with it\, all over again. Whilst my passion for Early Childhood has always been present\, my interest and involvement with children on the Autistic Spectrum and with ADHD stems from the birth of my own children. My eldest son was born in 1996 and by the time he was 2 \, I was very aware he had developmental and behavioural differences from other children of the same age. It took until he was 6\, constantly fighting and advocating for him\, whilst being made to attend numerous parenting courses; that he finally got a diagnosis of severe ADHD. My consequent two children also have ADHD and ASD and my middle son also has learning differences. After 28 years as a parent\, having to navigate daily life\, the education system\, becoming a single parent and then an Early Years teacher; I have gained a wealth of experience and knowledge of living with ASD/ADHD. I founded a Facebook Support Group ADHD Kids UK in 2007\, which now has 16.5K followers. As a Nanny I work on a daily basis with families with children and parents on the Autistic Spectrum; supporting and encouraging them and sharing practical advice from my own journey\, wherever I can. ” \nJoin us at 7.30 on 18th October a zoom link will be sent to all those who register on the morning\, plus a certificate of attendance too. \nWe look forward to connecting with you all. \n 
URL:https://uknanny.org/event/webinar-asd-adhd/
ATTACH;FMTTYPE=image/jpeg:https://uknanny.org/wp-content/uploads/2024/10/IMG_5408-scaled.jpeg
ORGANIZER;CN="UK Nanny Ltd":MAILTO:info@uknanny.org
END:VEVENT
BEGIN:VEVENT
DTSTART;TZID=Europe/London:20241026T113000
DTEND;TZID=Europe/London:20241026T133000
DTSTAMP:20260424T094838
CREATED:20241011T112453Z
LAST-MODIFIED:20241011T112453Z
UID:2473-1729942200-1729949400@uknanny.org
SUMMARY:Oxford Coffee Meet Up
DESCRIPTION:Join us for coffee and a chat at No1 in Witney 15 Market Square OX28 5AP \nAll welcome
URL:https://uknanny.org/event/oxford-coffee-meet-up/
ATTACH;FMTTYPE=image/png:https://uknanny.org/wp-content/uploads/2023/03/Untitled-design-28-e1717917478330.png
END:VEVENT
END:VCALENDAR